BEGIN:VCALENDAR
VERSION:2.0
PRODID:-//wp-events-plugin.com//6.6.4.4//EN
TZID:Europe/London
X-WR-TIMEZONE:Europe/London
BEGIN:VEVENT
UID:4234@swindon-makerspace.org
DTSTART;TZID=Europe/London:20260703T190000
DTEND;TZID=Europe/London:20260703T220000
DTSTAMP:20250717T141632Z
URL:https://www.swindon-makerspace.org/events/buddy-up-fridays-2026-07-03/
SUMMARY:Buddy-Up Fridays
DESCRIPTION:Lone working buddy Friday evenings
CATEGORIES:Organisation
END:VEVENT
BEGIN:VTIMEZONE
TZID:Europe/London
X-LIC-LOCATION:Europe/London
BEGIN:DAYLIGHT
DTSTART:20260329T020000
TZOFFSETFROM:+0000
TZOFFSETTO:+0100
TZNAME:BST
END:DAYLIGHT
END:VTIMEZONE
END:VCALENDAR