BEGIN:VCALENDAR
VERSION:2.0
PRODID:-//wp-events-plugin.com//6.6.4.4//EN
TZID:Europe/London
X-WR-TIMEZONE:Europe/London
BEGIN:VEVENT
UID:468@swindon-makerspace.org
DTSTART;TZID=Europe/London:20230422T130000
DTEND;TZID=Europe/London:20230422T180000
DTSTAMP:20230508T152215Z
URL:https://www.swindon-makerspace.org/events/cosplay-making-afternoon-202
 3-04-22/
SUMMARY:Cosplay Making Afternoon
DESCRIPTION:With Swindon ComicCon arriving soon on 24/25th June we are runn
 ing an event for members to come along and work on their cosplay they want
 \nto wear at the event.
CATEGORIES:themed
LOCATION:Swindon Makerspace\, Swindon Makerspace\, Unit 34\, BSS House\, Sw
 indon\, Wiltshire\, SN2 2PJ\, United Kingdom
X-APPLE-STRUCTURED-LOCATION;VALUE=URI;X-ADDRESS=Swindon Makerspace\, Unit 3
 4\, BSS House\, Swindon\, Wiltshire\, SN2 2PJ\, United Kingdom;X-APPLE-RAD
 IUS=100;X-TITLE=Swindon Makerspace:geo:0,0
END:VEVENT
BEGIN:VTIMEZONE
TZID:Europe/London
X-LIC-LOCATION:Europe/London
BEGIN:DAYLIGHT
DTSTART:20230326T020000
TZOFFSETFROM:+0000
TZOFFSETTO:+0100
TZNAME:BST
END:DAYLIGHT
END:VTIMEZONE
END:VCALENDAR