BEGIN:VCALENDAR
VERSION:2.0
PRODID:-//wp-events-plugin.com//6.6.4.4//EN
TZID:Europe/London
X-WR-TIMEZONE:Europe/London
BEGIN:VEVENT
UID:605@swindon-makerspace.org
DTSTART;TZID=Europe/London:20251003T180000
DTEND;TZID=Europe/London:20251003T220000
DTSTAMP:20250307T164330Z
URL:https://www.swindon-makerspace.org/events/scart-swindons-commodore-64-
 amiga-retro-team-2025-10-03/
SUMMARY:SCART (Swindon's Commodore 64\, Amiga & Retro Team)
DESCRIPTION:Swindon's Commodore 64\, Amiga &amp\; Retro Team: Where nostalg
 ia meets geekdom in the most epic way! Get ready to learn\, experience\, e
 xplore and maybe even make new friends with fellow local retro enthusiast
 s
LOCATION:Swindon Makerspace\, Swindon Makerspace\, Unit 34\, BSS House\, Sw
 indon\, Wiltshire\, SN2 2PJ\, United Kingdom
X-APPLE-STRUCTURED-LOCATION;VALUE=URI;X-ADDRESS=Swindon Makerspace\, Unit 3
 4\, BSS House\, Swindon\, Wiltshire\, SN2 2PJ\, United Kingdom;X-APPLE-RAD
 IUS=100;X-TITLE=Swindon Makerspace:geo:0,0
END:VEVENT
BEGIN:VTIMEZONE
TZID:Europe/London
X-LIC-LOCATION:Europe/London
BEGIN:DAYLIGHT
DTSTART:20250330T020000
TZOFFSETFROM:+0000
TZOFFSETTO:+0100
TZNAME:BST
END:DAYLIGHT
END:VTIMEZONE
END:VCALENDAR